BEGIN:VCALENDAR
VERSION:2.0
PRODID:-//Verein Allgäuer Molkereischüler e.V. - ECPv6.10.1.1//NONSGML v1.0//EN
CALSCALE:GREGORIAN
METHOD:PUBLISH
X-WR-CALNAME:Verein Allgäuer Molkereischüler e.V.
X-ORIGINAL-URL:https://verein.molkereischule-kempten.de
X-WR-CALDESC:Veranstaltungen für Verein Allgäuer Molkereischüler e.V.
REFRESH-INTERVAL;VALUE=DURATION:PT1H
X-Robots-Tag:noindex
X-PUBLISHED-TTL:PT1H
BEGIN:VTIMEZONE
TZID:Europe/Berlin
BEGIN:DAYLIGHT
TZOFFSETFROM:+0100
TZOFFSETTO:+0200
TZNAME:CEST
DTSTART:20260329T010000
END:DAYLIGHT
BEGIN:STANDARD
TZOFFSETFROM:+0200
TZOFFSETTO:+0100
TZNAME:CET
DTSTART:20261025T010000
END:STANDARD
END:VTIMEZONE
BEGIN:VEVENT
DTSTART;TZID=Europe/Berlin:20260512T170000
DTEND;TZID=Europe/Berlin:20260512T220000
DTSTAMP:20260422T142723
CREATED:20260202T081526Z
LAST-MODIFIED:20260202T081526Z
UID:6816-1778605200-1778623200@verein.molkereischule-kempten.de
SUMMARY:4. Einladung zum Milchwirtschaftlichen Stammtisch Allgäu / Schwaben 12.05.2026
DESCRIPTION:4. Stammtisch Allgäu-Schwaben 1080×1080 Insta
URL:https://verein.molkereischule-kempten.de/termine/4-einladung-zum-milchwirtschaftlichen-stammtisch-allgaeu-schwaben-12-05-2026/
LOCATION:Bissingen\, Molkerei Gropper\, Bissingen\, 86657
ATTACH;FMTTYPE=image/jpeg:https://verein.molkereischule-kempten.de/wp-content/uploads/2026/02/4.-Stammtisch-Allgaeu-Schwaben-1080x1080-Insta.jpg
END:VEVENT
END:VCALENDAR